BEGIN:VCALENDAR
VERSION:2.0
PRODID:-//Moseley Exchange - ECPv6.13.1//NONSGML v1.0//EN
CALSCALE:GREGORIAN
METHOD:PUBLISH
X-ORIGINAL-URL:https://moseleyexchange.com
X-WR-CALDESC:Events for Moseley Exchange
REFRESH-INTERVAL;VALUE=DURATION:PT1H
X-Robots-Tag:noindex
X-PUBLISHED-TTL:PT1H
BEGIN:VTIMEZONE
TZID:Europe/London
BEGIN:DAYLIGHT
TZOFFSETFROM:+0000
TZOFFSETTO:+0100
TZNAME:BST
DTSTART:20250330T010000
END:DAYLIGHT
BEGIN:STANDARD
TZOFFSETFROM:+0100
TZOFFSETTO:+0000
TZNAME:GMT
DTSTART:20251026T010000
END:STANDARD
END:VTIMEZONE
BEGIN:VEVENT
DTSTART;TZID=Europe/London:20250424T180000
DTEND;TZID=Europe/London:20250424T190000
DTSTAMP:20260426T032856
CREATED:20250321T143549Z
LAST-MODIFIED:20250321T143549Z
UID:14984-1745517600-1745521200@moseleyexchange.com
SUMMARY:Advice Surgery with Councillor Kerry Jenkins
DESCRIPTION:
URL:https://moseleyexchange.com/event/advice-surgery-with-councillor-kerry-jenkins-5/
CATEGORIES:Councillor Surgeries
ORGANIZER;CN="Kerry Jenkins":MAILTO:kerry.jenkins@birmingham.gov.uk
END:VEVENT
END:VCALENDAR