BEGIN:VCALENDAR
VERSION:2.0
PRODID:-//Moseley Exchange - ECPv6.13.1//NONSGML v1.0//EN
CALSCALE:GREGORIAN
METHOD:PUBLISH
X-WR-CALNAME:Moseley Exchange
X-ORIGINAL-URL:https://moseleyexchange.com
X-WR-CALDESC:Events for Moseley Exchange
REFRESH-INTERVAL;VALUE=DURATION:PT1H
X-Robots-Tag:noindex
X-PUBLISHED-TTL:PT1H
BEGIN:VTIMEZONE
TZID:Europe/London
BEGIN:DAYLIGHT
TZOFFSETFROM:+0000
TZOFFSETTO:+0100
TZNAME:BST
DTSTART:20240331T010000
END:DAYLIGHT
BEGIN:STANDARD
TZOFFSETFROM:+0100
TZOFFSETTO:+0000
TZNAME:GMT
DTSTART:20241027T010000
END:STANDARD
END:VTIMEZONE
BEGIN:VEVENT
DTSTART;TZID=Europe/London:20241130T100000
DTEND;TZID=Europe/London:20241130T160000
DTSTAMP:20260426T034618
CREATED:20241111T123942Z
LAST-MODIFIED:20241111T124858Z
UID:14716-1732960800-1732982400@moseleyexchange.com
SUMMARY:Hall Green Art Society Exhibition
DESCRIPTION:Celebrating 60 years of creativity by local artists. \nEveryone welcome. Free entry. Refreshments available.
URL:https://moseleyexchange.com/event/hall-green-art-society-exhibition/
CATEGORIES:Events,Visiting Exhibitions
ATTACH;FMTTYPE=image/jpeg:https://moseleyexchange.com/wp-content/uploads/2024/11/hall-green-art1-e1731329313361.jpg
END:VEVENT
END:VCALENDAR